BEGIN:VCALENDAR
VERSION:2.0
PRODID:-//Field of Dreams Park Salem NH - ECPv6.10.1.1//NONSGML v1.0//EN
CALSCALE:GREGORIAN
METHOD:PUBLISH
X-WR-CALNAME:Field of Dreams Park Salem NH
X-ORIGINAL-URL:https://www.fieldofdreamsnh.org
X-WR-CALDESC:Events for Field of Dreams Park Salem NH
REFRESH-INTERVAL;VALUE=DURATION:PT1H
X-Robots-Tag:noindex
X-PUBLISHED-TTL:PT1H
BEGIN:VTIMEZONE
TZID:UTC
BEGIN:STANDARD
TZOFFSETFROM:+0000
TZOFFSETTO:+0000
TZNAME:UTC
DTSTART:20260101T000000
END:STANDARD
END:VTIMEZONE
BEGIN:VEVENT
DTSTART;TZID=UTC:20260811T180000
DTEND;TZID=UTC:20260811T200000
DTSTAMP:20260420T034052
CREATED:20260415T160100Z
LAST-MODIFIED:20260415T162244Z
UID:6464-1786471200-1786478400@www.fieldofdreamsnh.org
SUMMARY:2026 FREE Summer Movie Nights at Field of Dreams - Zootopia 2
DESCRIPTION:2026 FREE Summer Movie Nights at Field of Dreams – Zootopia 2\n\n\nAugust 11 – Zootopia 2\n\nGrab your family and friends and enjoy FREE movies all season long under the open sky! \n\n\n\n\nMovies begin at 6:00 PM\n\n\n\n\n\nTips for a great night:\n• Arrive early for pre-show festivities\n• Bring beach chairs or blankets for comfy seating\n\n\n\nCome early\, get cozy\, and enjoy a fun-filled night at the movies — we can’t wait to see you there!\n\n\n\nMake sure you like our Facebook page to stay up-to date on all movie night happenings!
URL:https://www.fieldofdreamsnh.org/event/2026-free-summer-movie-nights-at-field-of-dreams-zootopia-2/
LOCATION:Field of Dreams\, 48 Geremonty Drive\, Salem\, NH\, 03079
END:VEVENT
END:VCALENDAR