BEGIN:VCALENDAR
VERSION:2.0
PRODID:-//Field of Dreams Park Salem NH - ECPv6.10.1.1//NONSGML v1.0//EN
CALSCALE:GREGORIAN
METHOD:PUBLISH
X-WR-CALNAME:Field of Dreams Park Salem NH
X-ORIGINAL-URL:https://www.fieldofdreamsnh.org
X-WR-CALDESC:Events for Field of Dreams Park Salem NH
REFRESH-INTERVAL;VALUE=DURATION:PT1H
X-Robots-Tag:noindex
X-PUBLISHED-TTL:PT1H
BEGIN:VTIMEZONE
TZID:UTC
BEGIN:STANDARD
TZOFFSETFROM:+0000
TZOFFSETTO:+0000
TZNAME:UTC
DTSTART:20260101T000000
END:STANDARD
END:VTIMEZONE
BEGIN:VEVENT
DTSTART;TZID=UTC:20260531T090000
DTEND;TZID=UTC:20260531T120000
DTSTAMP:20260420T055352
CREATED:20260310T185314Z
LAST-MODIFIED:20260313T151503Z
UID:6402-1780218000-1780228800@www.fieldofdreamsnh.org
SUMMARY:Salem Family Resources miles4moms Walk/Run 5k
DESCRIPTION:BIG NEWS\, SALEM!\nSalem Family Resources is hosting our FIRST-EVER 5K Walk/Run – and we want YOU there!\nField of Dreams\nMay 31\, 2026\n9 – noon\nThis isn’t just a race – it’s a movement. Our miles4moms campaign is all about strengthening families one mom at a time\, and we want to see you show up\, team up\, and make an impact! \nRun or Walk:\nRegister today and create a team with your family\, friends\, coworkers\, or business. Rally together\, fundraise together\, and help us support moms and families right here in our community. \nRegister here: https://www.runreg.com/miles4moms\nNot into running or walking…\nFrom 9–12\, we’ll be hosting Family Fun at the Field of Dreams with:\n• Local vendors\n• Activities for kids\n• Community connections\n• Fun for the whole family \nCalling All Sponsors & Fundraising Champions!\nWe’re actively looking for sponsors and community leaders who want to step up\, stand out\, and help make this event a huge success. This is an amazing opportunity to support families while gaining visibility and making a real difference.\nLet’s walk.\nLet’s run.\nLet’s fundraise.\nLet’s strengthen families and have some fun!\nWe can’t wait to see you at the Field of Dreams! \nLearn more here.
URL:https://www.fieldofdreamsnh.org/event/salem-family-resources-miles4moms-walk-run-5k/
LOCATION:Field of Dreams\, 48 Geremonty Drive\, Salem\, NH\, 03079
END:VEVENT
END:VCALENDAR