BEGIN:VCALENDAR
VERSION:2.0
PRODID:-//Field of Dreams Park Salem NH - ECPv6.10.1.1//NONSGML v1.0//EN
CALSCALE:GREGORIAN
METHOD:PUBLISH
X-ORIGINAL-URL:https://www.fieldofdreamsnh.org
X-WR-CALDESC:Events for Field of Dreams Park Salem NH
REFRESH-INTERVAL;VALUE=DURATION:PT1H
X-Robots-Tag:noindex
X-PUBLISHED-TTL:PT1H
BEGIN:VTIMEZONE
TZID:UTC
BEGIN:STANDARD
TZOFFSETFROM:+0000
TZOFFSETTO:+0000
TZNAME:UTC
DTSTART:20260101T000000
END:STANDARD
END:VTIMEZONE
BEGIN:VEVENT
DTSTART;TZID=UTC:20260724T174500
DTEND;TZID=UTC:20260724T220000
DTSTAMP:20260420T055205
CREATED:20260310T190654Z
LAST-MODIFIED:20260410T175613Z
UID:6412-1784915100-1784930400@www.fieldofdreamsnh.org
SUMMARY:2026 FREE Concert Series: Wildside
DESCRIPTION:Wildside rocks the house playing the very best versions of your hair metal favorites. You’ll swear it’s 1987 when Wildside takes the stage and blasts out tunes from Bon Jovi\, Def Leppard\, Motley Crue\, Ratt\, The Scorpions\, Whitesnake and more. So\, tease up your hair\, throw on the acid washed and get ready to rock! \nOpener: Steve Decuire \nThe new Field of Dreams concession stand will be open during the show!\n\nBring your lawn chair or blanket and enjoy a memorable night of great music!\n\nRain or shine event!\n\nFor more timely event updates visit our facebook page.
URL:https://www.fieldofdreamsnh.org/event/2026-free-concert-series-wildside/
LOCATION:Field of Dreams\, 48 Geremonty Drive\, Salem\, NH\, 03079
END:VEVENT
END:VCALENDAR