BEGIN:VCALENDAR
VERSION:2.0
PRODID:-//Field of Dreams Park Salem NH - ECPv6.10.1.1//NONSGML v1.0//EN
CALSCALE:GREGORIAN
METHOD:PUBLISH
X-WR-CALNAME:Field of Dreams Park Salem NH
X-ORIGINAL-URL:https://www.fieldofdreamsnh.org
X-WR-CALDESC:Events for Field of Dreams Park Salem NH
REFRESH-INTERVAL;VALUE=DURATION:PT1H
X-Robots-Tag:noindex
X-PUBLISHED-TTL:PT1H
BEGIN:VTIMEZONE
TZID:UTC
BEGIN:STANDARD
TZOFFSETFROM:+0000
TZOFFSETTO:+0000
TZNAME:UTC
DTSTART:20260101T000000
END:STANDARD
END:VTIMEZONE
BEGIN:VEVENT
DTSTART;TZID=UTC:20260710T174500
DTEND;TZID=UTC:20260710T220000
DTSTAMP:20260420T074101
CREATED:20260310T190230Z
LAST-MODIFIED:20260410T175730Z
UID:6408-1783705500-1783720800@www.fieldofdreamsnh.org
SUMMARY:2026 FREE Concert Series: R3D N3CK Castaway Band
DESCRIPTION:The six-piece band recreates the atmosphere of a Kenny Chesney concert while paying homage to the singer’s popular songs with the same caliber of musicianship that has caused stadiums all over the nation to sell out. \nOpener: Christie Leigh \nThe new Field of Dreams concession stand will be open during the show!\n\nBring your lawn chair or blanket and enjoy a memorable night of great music!\n\nRain or shine event!\n\nFor more timely event updates visit our facebook page.
URL:https://www.fieldofdreamsnh.org/event/2026-free-concert-series-r3d-n3ck-castaway-band/
LOCATION:Field of Dreams\, 48 Geremonty Drive\, Salem\, NH\, 03079
END:VEVENT
BEGIN:VEVENT
DTSTART;TZID=UTC:20260714T180000
DTEND;TZID=UTC:20260714T200000
DTSTAMP:20260420T074101
CREATED:20260415T154937Z
LAST-MODIFIED:20260415T155933Z
UID:6462-1784052000-1784059200@www.fieldofdreamsnh.org
SUMMARY:2026 FREE Summer Movie Nights at Field of Dreams - E.T.
DESCRIPTION:2026 FREE Summer Movie Nights at Field of Dreams – E.T.\n\n\nJuly 14 – E.T.\n\nGrab your family and friends and enjoy FREE movies all season long under the open sky! \n\n\n\n\nMovies begin at 6:00 PM\n\n\n\n\n\nTips for a great night:\n• Arrive early for pre-show festivities\n• Bring beach chairs or blankets for comfy seating\n\n\n\nCome early\, get cozy\, and enjoy a fun-filled night at the movies — we can’t wait to see you there!\n\n\n\nMake sure you like our Facebook page to stay up-to date on all movie night happenings!
URL:https://www.fieldofdreamsnh.org/event/2026-free-summer-movie-nights-at-field-of-dreams-e-t/
LOCATION:Field of Dreams\, 48 Geremonty Drive\, Salem\, NH\, 03079
END:VEVENT
BEGIN:VEVENT
DTSTART;TZID=UTC:20260717T174500
DTEND;TZID=UTC:20260717T220000
DTSTAMP:20260420T074101
CREATED:20260310T190411Z
LAST-MODIFIED:20260410T175646Z
UID:6410-1784310300-1784325600@www.fieldofdreamsnh.org
SUMMARY:2026 FREE Concert Series: Eric Grant Band
DESCRIPTION:Eric Grant Band is an award-winning country act with national recognition\, multiple album releases\, and an impressive résumé of opening for top headliners while captivating thousands of fans across New England and beyond. \nOpener: Garrett Smith  \nThe new Field of Dreams concession stand will be open during the show!\n\nBring your lawn chair or blanket and enjoy a memorable night of great music!\n\nRain or shine event!\n\nFor more timely event updates visit our facebook page.
URL:https://www.fieldofdreamsnh.org/event/2026-free-concert-series-eric-grant-band/
LOCATION:Field of Dreams\, 48 Geremonty Drive\, Salem\, NH\, 03079
END:VEVENT
BEGIN:VEVENT
DTSTART;TZID=UTC:20260731T174500
DTEND;TZID=UTC:20260731T220000
DTSTAMP:20260420T074101
CREATED:20260310T191847Z
LAST-MODIFIED:20260410T175749Z
UID:6418-1785519900-1785535200@www.fieldofdreamsnh.org
SUMMARY:2026 FREE Concert Series: B-Street Bombers
DESCRIPTION:Merrimack Valley’s oldest band of exceptional singers and musicians\, B-Street Bombers\, deliver R&B\, rock\, soul\, and funk with industrial strength. \nOpener: Brad Dubay \nThe new Field of Dreams concession stand will be open during the show!\n\nBring your lawn chair or blanket and enjoy a memorable night of great music!\n\nRain or shine event!\n\nFor more timely event updates visit our facebook page.
URL:https://www.fieldofdreamsnh.org/event/2026-free-concert-seriesb-street-bombers/
LOCATION:Field of Dreams\, 48 Geremonty Drive\, Salem\, NH\, 03079
END:VEVENT
END:VCALENDAR