BEGIN:VCALENDAR
VERSION:2.0
PRODID:-//Field of Dreams Park Salem NH - ECPv6.10.1.1//NONSGML v1.0//EN
CALSCALE:GREGORIAN
METHOD:PUBLISH
X-WR-CALNAME:Field of Dreams Park Salem NH
X-ORIGINAL-URL:https://www.fieldofdreamsnh.org
X-WR-CALDESC:Events for Field of Dreams Park Salem NH
REFRESH-INTERVAL;VALUE=DURATION:PT1H
X-Robots-Tag:noindex
X-PUBLISHED-TTL:PT1H
BEGIN:VTIMEZONE
TZID:UTC
BEGIN:STANDARD
TZOFFSETFROM:+0000
TZOFFSETTO:+0000
TZNAME:UTC
DTSTART:20260101T000000
END:STANDARD
END:VTIMEZONE
BEGIN:VEVENT
DTSTART;TZID=UTC:20260807T174500
DTEND;TZID=UTC:20260807T220000
DTSTAMP:20260420T052231
CREATED:20260313T150952Z
LAST-MODIFIED:20260410T175804Z
UID:6420-1786124700-1786140000@www.fieldofdreamsnh.org
SUMMARY:2026 FREE Concert Series: Madhouse Party Band
DESCRIPTION:This dynamic regional party band plays a variety of well-known Billboard blockbuster hits from all eras \nOpener: Chris Powers  \nThe new Field of Dreams concession stand will be open during the show!\n\nBring your lawn chair or blanket and enjoy a memorable night of great music!\n\nRain or shine event!\n\nFor more timely event updates visit our facebook page.
URL:https://www.fieldofdreamsnh.org/event/2026-free-concert-series-madhouse-party-band/
LOCATION:Field of Dreams\, 48 Geremonty Drive\, Salem\, NH\, 03079
END:VEVENT
END:VCALENDAR